BEGIN:VCALENDAR
VERSION:2.0
PRODID:-//Right Sharing of World Resources - ECPv6.15.18//NONSGML v1.0//EN
CALSCALE:GREGORIAN
METHOD:PUBLISH
X-WR-CALNAME:Right Sharing of World Resources
X-ORIGINAL-URL:https://rswr.org
X-WR-CALDESC:Events for Right Sharing of World Resources
REFRESH-INTERVAL;VALUE=DURATION:PT1H
X-Robots-Tag:noindex
X-PUBLISHED-TTL:PT1H
BEGIN:VTIMEZONE
TZID:America/New_York
BEGIN:DAYLIGHT
TZOFFSETFROM:-0500
TZOFFSETTO:-0400
TZNAME:EDT
DTSTART:20250309T070000
END:DAYLIGHT
BEGIN:STANDARD
TZOFFSETFROM:-0400
TZOFFSETTO:-0500
TZNAME:EST
DTSTART:20251102T060000
END:STANDARD
BEGIN:DAYLIGHT
TZOFFSETFROM:-0500
TZOFFSETTO:-0400
TZNAME:EDT
DTSTART:20260308T070000
END:DAYLIGHT
BEGIN:STANDARD
TZOFFSETFROM:-0400
TZOFFSETTO:-0500
TZNAME:EST
DTSTART:20261101T060000
END:STANDARD
BEGIN:DAYLIGHT
TZOFFSETFROM:-0500
TZOFFSETTO:-0400
TZNAME:EDT
DTSTART:20270314T070000
END:DAYLIGHT
BEGIN:STANDARD
TZOFFSETFROM:-0400
TZOFFSETTO:-0500
TZNAME:EST
DTSTART:20271107T060000
END:STANDARD
END:VTIMEZONE
BEGIN:VEVENT
DTSTART;TZID=America/New_York:20260708T090000
DTEND;TZID=America/New_York:20260711T120000
DTSTAMP:20260421T055307
CREATED:20260203T194704Z
LAST-MODIFIED:20260311T202544Z
UID:11155-1783501200-1783771200@rswr.org
SUMMARY:Power of Enough at FGC Gathering
DESCRIPTION:How can I balance my use of time\, energy\, money\, and “things\,” to free myself to do God’s work and contribute to right order in our world? Through queries and experiential exercises we approach these aspects of our lives\, reflect on our choices and how they ripple forward to others. \nJoin RSWR’s Executive Director\, Traci Hjelt Sullivan\, as she leads this Power of Enough workshop at the Friends General Conference Gathering in Burlington\, VT. This four day\, in-person workshop is one of the Gathering’s workshop offerings. Sign up for program updates and more information on registration at FGC’s website.
URL:https://rswr.org/event/power-of-enough-at-fgc-gathering/
LOCATION:University of Vermont\, Burlington\, Vermont
ATTACH;FMTTYPE=image/jpeg:https://rswr.org/wp-content/uploads/2026/02/thought-catalog-FACFpJVoMJs-unsplash.jpg
END:VEVENT
END:VCALENDAR